BEGIN:VCALENDAR
VERSION:2.0
PRODID:-//Bike Café - ECPv6.15.20//NONSGML v1.0//EN
CALSCALE:GREGORIAN
METHOD:PUBLISH
X-WR-CALNAME:Bike Café
X-ORIGINAL-URL:https://bike-cafe.fr
X-WR-CALDESC:Évènements pour Bike Café
REFRESH-INTERVAL;VALUE=DURATION:PT1H
X-Robots-Tag:noindex
X-PUBLISHED-TTL:PT1H
BEGIN:VTIMEZONE
TZID:Europe/Paris
BEGIN:DAYLIGHT
TZOFFSETFROM:+0100
TZOFFSETTO:+0200
TZNAME:CEST
DTSTART:20230326T010000
END:DAYLIGHT
BEGIN:STANDARD
TZOFFSETFROM:+0200
TZOFFSETTO:+0100
TZNAME:CET
DTSTART:20231029T010000
END:STANDARD
BEGIN:DAYLIGHT
TZOFFSETFROM:+0100
TZOFFSETTO:+0200
TZNAME:CEST
DTSTART:20240331T010000
END:DAYLIGHT
BEGIN:STANDARD
TZOFFSETFROM:+0200
TZOFFSETTO:+0100
TZNAME:CET
DTSTART:20241027T010000
END:STANDARD
BEGIN:DAYLIGHT
TZOFFSETFROM:+0100
TZOFFSETTO:+0200
TZNAME:CEST
DTSTART:20250330T010000
END:DAYLIGHT
BEGIN:STANDARD
TZOFFSETFROM:+0200
TZOFFSETTO:+0100
TZNAME:CET
DTSTART:20251026T010000
END:STANDARD
END:VTIMEZONE
BEGIN:VEVENT
DTSTART;TZID=Europe/Paris:20240126T070000
DTEND;TZID=Europe/Paris:20240128T200000
DTSTAMP:20260422T152805
CREATED:20231002T081649Z
LAST-MODIFIED:20231002T081904Z
UID:10000092-1706252400-1706472000@bike-cafe.fr
SUMMARY:Fat Viking Winter Endurance Race
DESCRIPTION:FAT VIKING is a WINTER ULTRA ENDURANCE event under somewhat more “controlled” circumstances than the Iditarod Trail Invitational. The race course runs on snowmobile tracks\, dogsledding trails\, snowcovered roads and cross country skiing trails around Geilo/ Skurdalen/ Dagali. Checkpoints are inside a heated building where basic food (oatmeal) is offered along with the opportunity to rest. Several “bail out options” along the route are available in case of emergency/ abandoning the race.
URL:https://bike-cafe.fr/evenement/fat-viking-winter-endurance-race/
LOCATION:Geilo\, Norvège
CATEGORIES:Fat Bike
ATTACH;FMTTYPE=image/jpeg:https://bike-cafe.fr/wp-content/uploads/2023/10/Fat-Viking-inter-endurance-race.jpg
END:VEVENT
END:VCALENDAR