BEGIN:VCALENDAR
VERSION:2.0
PRODID:-//Bike Café - ECPv6.15.20//NONSGML v1.0//EN
CALSCALE:GREGORIAN
METHOD:PUBLISH
X-ORIGINAL-URL:https://bike-cafe.fr
X-WR-CALDESC:Évènements pour Bike Café
REFRESH-INTERVAL;VALUE=DURATION:PT1H
X-Robots-Tag:noindex
X-PUBLISHED-TTL:PT1H
BEGIN:VTIMEZONE
TZID:Europe/Paris
BEGIN:DAYLIGHT
TZOFFSETFROM:+0100
TZOFFSETTO:+0200
TZNAME:CEST
DTSTART:20240331T010000
END:DAYLIGHT
BEGIN:STANDARD
TZOFFSETFROM:+0200
TZOFFSETTO:+0100
TZNAME:CET
DTSTART:20241027T010000
END:STANDARD
BEGIN:DAYLIGHT
TZOFFSETFROM:+0100
TZOFFSETTO:+0200
TZNAME:CEST
DTSTART:20250330T010000
END:DAYLIGHT
BEGIN:STANDARD
TZOFFSETFROM:+0200
TZOFFSETTO:+0100
TZNAME:CET
DTSTART:20251026T010000
END:STANDARD
BEGIN:DAYLIGHT
TZOFFSETFROM:+0100
TZOFFSETTO:+0200
TZNAME:CEST
DTSTART:20260329T010000
END:DAYLIGHT
BEGIN:STANDARD
TZOFFSETFROM:+0200
TZOFFSETTO:+0100
TZNAME:CET
DTSTART:20261025T010000
END:STANDARD
END:VTIMEZONE
BEGIN:VEVENT
DTSTART;TZID=Europe/Paris:20250927T080000
DTEND;TZID=Europe/Paris:20250928T170000
DTSTAMP:20260420T120237
CREATED:20250513T124155Z
LAST-MODIFIED:20250513T124155Z
UID:10000228-1758960000-1759078800@bike-cafe.fr
SUMMARY:Championnats de France Gravel
DESCRIPTION:La Fédération française de cyclisme va décerner les maillots bleu-blanc-rouge aux premiers champions de France gravel. Cela aura lieu dans le cadre de Gravel Fever\, du 26 au 28 septembre dans la Communauté d’Agglomération du Grand Châtellerault de la région Nouvelle Acquitaine. \nLe programme :\n-Elite Hommes (19-34 ans) et par catégories d’âge (35-39 ans\, 40-44 ans\, 45-49 ans\, 50-54 ans et 55-59 ans) : 150 km\,\n-Elite Femmes (19-34 ans) et par catégories d’âge (35-39 ans\, 40-44 ans\, 45-49 ans\, 50-54 ans\, 55-59 ans\, 60-64 ans\, 65-69 ans et 70 ans et plus) : 120 km\,\n-Hommes (60-64 ans\, 65-69 ans\, 70 ans et plus) : 120 km\,\n-Juniors Femmes et Hommes : 80 km\,\n-Cadets et Cadettes : 50 km. \nLes courses sont ouvertes à tous\, licenciés ou non\, mais seuls les licenciés peuvent prétendre au maillot et aux médailles sur le podium.
URL:https://bike-cafe.fr/evenement/championnats-de-france-gravel/
CATEGORIES:Gravel
ATTACH;FMTTYPE=image/jpeg:https://bike-cafe.fr/wp-content/uploads/2025/05/france-gravel.jpg
END:VEVENT
END:VCALENDAR