BEGIN:VCALENDAR
VERSION:2.0
PRODID:-//Bike Café - ECPv6.15.20//NONSGML v1.0//EN
CALSCALE:GREGORIAN
METHOD:PUBLISH
X-WR-CALNAME:Bike Café
X-ORIGINAL-URL:https://bike-cafe.fr
X-WR-CALDESC:Évènements pour Bike Café
REFRESH-INTERVAL;VALUE=DURATION:PT1H
X-Robots-Tag:noindex
X-PUBLISHED-TTL:PT1H
BEGIN:VTIMEZONE
TZID:Europe/Paris
BEGIN:DAYLIGHT
TZOFFSETFROM:+0100
TZOFFSETTO:+0200
TZNAME:CEST
DTSTART:20240331T010000
END:DAYLIGHT
BEGIN:STANDARD
TZOFFSETFROM:+0200
TZOFFSETTO:+0100
TZNAME:CET
DTSTART:20241027T010000
END:STANDARD
BEGIN:DAYLIGHT
TZOFFSETFROM:+0100
TZOFFSETTO:+0200
TZNAME:CEST
DTSTART:20250330T010000
END:DAYLIGHT
BEGIN:STANDARD
TZOFFSETFROM:+0200
TZOFFSETTO:+0100
TZNAME:CET
DTSTART:20251026T010000
END:STANDARD
BEGIN:DAYLIGHT
TZOFFSETFROM:+0100
TZOFFSETTO:+0200
TZNAME:CEST
DTSTART:20260329T010000
END:DAYLIGHT
BEGIN:STANDARD
TZOFFSETFROM:+0200
TZOFFSETTO:+0100
TZNAME:CET
DTSTART:20261025T010000
END:STANDARD
END:VTIMEZONE
BEGIN:VEVENT
DTSTART;VALUE=DATE:20250831
DTEND;VALUE=DATE:20250901
DTSTAMP:20260424T192752
CREATED:20250625T122603Z
LAST-MODIFIED:20250625T122603Z
UID:10000237-1756598400-1756684799@bike-cafe.fr
SUMMARY:Les graviers du CVS
DESCRIPTION:Randonnée gravel avec 3 parcours :\n85 km – 1700 D+\n127 km – 2500 D+\n154 km – 3000 D+ \nManifestation gravel organisée par le Club Vosgien de Saverne.\n3 parcours autour de Marmoutier\, Saverne et Dabo.\nPrincipalement en forêt sur des chemins en terre et gravier. Quelques passages sur des routes. \n– les p’tits graviers : 85 km – 1700 D+ – tarif 12€ licencié\, tarif 15€\nnon licencié\n– les graviers : 127 km – 2500 D+ – tarif 24€ licencié\, tarif 27€ non\nlicencié\n– les gros graviers : 154 km – 3000 D+ – tarif 29€ licencié\, tarif 32€\nnon licencié\n– option repas à l’arrivée : 10€ (plat-boisson-dessert) à commander lors de l’inscription. \n 
URL:https://bike-cafe.fr/evenement/les-graviers-du-cvs/
CATEGORIES:Gravel
ATTACH;FMTTYPE=image/jpeg:https://bike-cafe.fr/wp-content/uploads/2025/06/graviers-CVS.jpg
ORGANIZER;CN="Club Vosgien de Saverne":MAILTO:gravel.cvs@gmail.com
END:VEVENT
END:VCALENDAR