BEGIN:VCALENDAR
VERSION:2.0
PRODID:-//Bike Café - ECPv6.15.20//NONSGML v1.0//EN
CALSCALE:GREGORIAN
METHOD:PUBLISH
X-WR-CALNAME:Bike Café
X-ORIGINAL-URL:https://bike-cafe.fr
X-WR-CALDESC:Évènements pour Bike Café
REFRESH-INTERVAL;VALUE=DURATION:PT1H
X-Robots-Tag:noindex
X-PUBLISHED-TTL:PT1H
BEGIN:VTIMEZONE
TZID:Europe/Paris
BEGIN:DAYLIGHT
TZOFFSETFROM:+0100
TZOFFSETTO:+0200
TZNAME:CEST
DTSTART:20250330T010000
END:DAYLIGHT
BEGIN:STANDARD
TZOFFSETFROM:+0200
TZOFFSETTO:+0100
TZNAME:CET
DTSTART:20251026T010000
END:STANDARD
BEGIN:DAYLIGHT
TZOFFSETFROM:+0100
TZOFFSETTO:+0200
TZNAME:CEST
DTSTART:20260329T010000
END:DAYLIGHT
BEGIN:STANDARD
TZOFFSETFROM:+0200
TZOFFSETTO:+0100
TZNAME:CET
DTSTART:20261025T010000
END:STANDARD
BEGIN:DAYLIGHT
TZOFFSETFROM:+0100
TZOFFSETTO:+0200
TZNAME:CEST
DTSTART:20270328T010000
END:DAYLIGHT
BEGIN:STANDARD
TZOFFSETFROM:+0200
TZOFFSETTO:+0100
TZNAME:CET
DTSTART:20271031T010000
END:STANDARD
END:VTIMEZONE
BEGIN:VEVENT
DTSTART;VALUE=DATE:20260530
DTEND;VALUE=DATE:20260601
DTSTAMP:20260424T095814
CREATED:20260325T165909Z
LAST-MODIFIED:20260325T165909Z
UID:10000298-1780099200-1780271999@bike-cafe.fr
SUMMARY:Terre de Légendes
DESCRIPTION:Les Ardennes sont la deuxième terre de légendes en France.Nous vous proposons d’ajouter une nouvelle légende à toutes celles déjà existantes. Celle d’une aventure humaine portée par le défi sportif et la magie de la nature.Cette aventure doit se vivre en prenant le temps\, c’est pourquoi nous vous proposons un week-end complet où les souvenirs se fabriqueront tout autant à vélo qu’à côté.Nous avons délibérément choisi de limiter le nombre de places\, mais vous proposerons néanmoins plusieurs formules de la clé en main au bike-packing. Mais n’ayez crainte nous avons tout prévu. \nUn parcours unique de 200kms pour près de 3000m de D+.Le parcours vous fera visiter un nombre incroyable de sites des légendes ardennaises.Un seul parcours\, mais 5 versions possibles selon les options choisies du All-inclusive au Bike-packing sans oublier le défi un jour.Que vous soyez du genre à vous lancer des défis ou à profiter et prendre votre temps\, vous trouverez votre formule.Oserez-vous vous lancer et écrire votre propre légende ?
URL:https://bike-cafe.fr/evenement/terre-de-legendes/
CATEGORIES:Gravel
ATTACH;FMTTYPE=image/jpeg:https://bike-cafe.fr/wp-content/uploads/2026/03/terre-de-legende.jpg
ORGANIZER;CN="RAID Ardennes VTT":MAILTO:tdl@ardennesvtt.fr
END:VEVENT
BEGIN:VEVENT
DTSTART;VALUE=DATE:20260531
DTEND;VALUE=DATE:20260601
DTSTAMP:20260424T095814
CREATED:20260329T153448Z
LAST-MODIFIED:20260329T153448Z
UID:10000299-1780185600-1780271999@bike-cafe.fr
SUMMARY:Challenge 100 Miles CCBB
DESCRIPTION:L’épreuve propose un parcours de 160 km en gravel\, traversant des paysages variés et techniques\, notamment au cœur de la forêt domaniale d’Orléans. Un des temps forts du trajet est le passage près de la Loire\, ajoutant une dimension pittoresque et un cadre naturel exceptionnel à l’expérience. Les participants évoluent sur des chemins forestiers bien entretenus\, alternant entre sections roulantes et passages plus techniques\, pour un défi à la fois exigeant et immersif.
URL:https://bike-cafe.fr/evenement/challenge-100-miles-ccbb/
CATEGORIES:Gravel
ATTACH;FMTTYPE=image/jpeg:https://bike-cafe.fr/wp-content/uploads/2026/03/boigny.jpg
ORGANIZER;CN="CCBB Boigny sur Bionne":MAILTO:ccbb.velo@gmail.com
END:VEVENT
END:VCALENDAR