BEGIN:VCALENDAR
VERSION:2.0
PRODID:-//Bike Café - ECPv6.15.20//NONSGML v1.0//EN
CALSCALE:GREGORIAN
METHOD:PUBLISH
X-WR-CALNAME:Bike Café
X-ORIGINAL-URL:https://bike-cafe.fr
X-WR-CALDESC:Évènements pour Bike Café
REFRESH-INTERVAL;VALUE=DURATION:PT1H
X-Robots-Tag:noindex
X-PUBLISHED-TTL:PT1H
BEGIN:VTIMEZONE
TZID:Europe/Paris
BEGIN:DAYLIGHT
TZOFFSETFROM:+0100
TZOFFSETTO:+0200
TZNAME:CEST
DTSTART:20220327T010000
END:DAYLIGHT
BEGIN:STANDARD
TZOFFSETFROM:+0200
TZOFFSETTO:+0100
TZNAME:CET
DTSTART:20221030T010000
END:STANDARD
BEGIN:DAYLIGHT
TZOFFSETFROM:+0100
TZOFFSETTO:+0200
TZNAME:CEST
DTSTART:20230326T010000
END:DAYLIGHT
BEGIN:STANDARD
TZOFFSETFROM:+0200
TZOFFSETTO:+0100
TZNAME:CET
DTSTART:20231029T010000
END:STANDARD
BEGIN:DAYLIGHT
TZOFFSETFROM:+0100
TZOFFSETTO:+0200
TZNAME:CEST
DTSTART:20240331T010000
END:DAYLIGHT
BEGIN:STANDARD
TZOFFSETFROM:+0200
TZOFFSETTO:+0100
TZNAME:CET
DTSTART:20241027T010000
END:STANDARD
END:VTIMEZONE
BEGIN:VEVENT
DTSTART;TZID=Europe/Paris:20230828T080000
DTEND;TZID=Europe/Paris:20231103T170000
DTSTAMP:20260422T034647
CREATED:20230725T090839Z
LAST-MODIFIED:20230725T095805Z
UID:10000073-1693209600-1699030800@bike-cafe.fr
SUMMARY:Formation découverte des métiers du cycle
DESCRIPTION:Objectifs de la formation : approche globale du cycle\, initiation technique\, construction et consolidation de projet. Orientation vers les formations : cadreurs cycles\, vendeurs et loueurs de cycles\, technicien vendeurs matériel de sport.\nNous contacter concernant la prise en charge financière de la formation.
URL:https://bike-cafe.fr/evenement/formation-decouverte-des-metiers-du-cycle/
LOCATION:Auvergne\, Puy-de-Dôme\, Auvergne
CATEGORIES:Tous vélos
ATTACH;FMTTYPE=image/jpeg:https://bike-cafe.fr/wp-content/uploads/2023/07/AFPA.jpg
ORGANIZER;CN="AFPA Puy-de-Dome":MAILTO:recrut-stagiaire-puy@afpa.fr
END:VEVENT
END:VCALENDAR