BEGIN:VCALENDAR
VERSION:2.0
PRODID:-//Bike Café - ECPv6.15.20//NONSGML v1.0//EN
CALSCALE:GREGORIAN
METHOD:PUBLISH
X-WR-CALNAME:Bike Café
X-ORIGINAL-URL:https://bike-cafe.fr
X-WR-CALDESC:Évènements pour Bike Café
REFRESH-INTERVAL;VALUE=DURATION:PT1H
X-Robots-Tag:noindex
X-PUBLISHED-TTL:PT1H
BEGIN:VTIMEZONE
TZID:Europe/Paris
BEGIN:DAYLIGHT
TZOFFSETFROM:+0100
TZOFFSETTO:+0200
TZNAME:CEST
DTSTART:20230326T010000
END:DAYLIGHT
BEGIN:STANDARD
TZOFFSETFROM:+0200
TZOFFSETTO:+0100
TZNAME:CET
DTSTART:20231029T010000
END:STANDARD
BEGIN:DAYLIGHT
TZOFFSETFROM:+0100
TZOFFSETTO:+0200
TZNAME:CEST
DTSTART:20240331T010000
END:DAYLIGHT
BEGIN:STANDARD
TZOFFSETFROM:+0200
TZOFFSETTO:+0100
TZNAME:CET
DTSTART:20241027T010000
END:STANDARD
BEGIN:DAYLIGHT
TZOFFSETFROM:+0100
TZOFFSETTO:+0200
TZNAME:CEST
DTSTART:20250330T010000
END:DAYLIGHT
BEGIN:STANDARD
TZOFFSETFROM:+0200
TZOFFSETTO:+0100
TZNAME:CET
DTSTART:20251026T010000
END:STANDARD
END:VTIMEZONE
BEGIN:VEVENT
DTSTART;TZID=Europe/Paris:20240416T103000
DTEND;TZID=Europe/Paris:20240418T200000
DTSTAMP:20260421T173306
CREATED:20240203T060436Z
LAST-MODIFIED:20240203T060436Z
UID:10000136-1713263400-1713470400@bike-cafe.fr
SUMMARY:Tour du plateau de Vaucluse en gravel
DESCRIPTION:Un séjour de 3 jours à la découverte du plateau du Vaucluse au guidon d’un vélo gravel. Un circuit certifié 100% biosphère locale ! Nous l’avons intégralement tracé dans les Parcs\nNaturels Régionaux du Mont-Ventoux et du Lubéron au départ de Bédoin. \nL’itinéraire vous fera découvrir les gorges de la Nesque\, Gordes\, l’abbaye de Sénanque et boucler cette aventure le temps de quelques jours pour découvrir l’une des plus belles régions de France. \nLes moniteurs de l’Institut de Formation du Vélo vous guideront et vous apporteront la logistique et les conseils utiles pour vous garantir une expérience réussie de ce tour du plateau du VAUCLUSE en vélo gravel. \nL’hébergement est compris dans le tarif d’inscription. \n 
URL:https://bike-cafe.fr/evenement/tour-du-plateau-de-vaucluse-en-gravel/
LOCATION:Bédoin\, Bédoin\, Vaucluse\, 84410\, France
CATEGORIES:Gravel
ATTACH;FMTTYPE=image/jpeg:https://bike-cafe.fr/wp-content/uploads/2024/02/IMG_3359bis-066a8495af40d0193de07f6a8f9a65f9-scaled.jpg
ORGANIZER;CN="Institut de Formation du V%C3%A9lo":MAILTO:raidbp10@gmail.com
END:VEVENT
END:VCALENDAR