BEGIN:VCALENDAR
VERSION:2.0
PRODID:-//Bike Café - ECPv6.15.20//NONSGML v1.0//EN
CALSCALE:GREGORIAN
METHOD:PUBLISH
X-ORIGINAL-URL:https://bike-cafe.fr
X-WR-CALDESC:Évènements pour Bike Café
REFRESH-INTERVAL;VALUE=DURATION:PT1H
X-Robots-Tag:noindex
X-PUBLISHED-TTL:PT1H
BEGIN:VTIMEZONE
TZID:Europe/Paris
BEGIN:DAYLIGHT
TZOFFSETFROM:+0100
TZOFFSETTO:+0200
TZNAME:CEST
DTSTART:20240331T010000
END:DAYLIGHT
BEGIN:STANDARD
TZOFFSETFROM:+0200
TZOFFSETTO:+0100
TZNAME:CET
DTSTART:20241027T010000
END:STANDARD
BEGIN:DAYLIGHT
TZOFFSETFROM:+0100
TZOFFSETTO:+0200
TZNAME:CEST
DTSTART:20250330T010000
END:DAYLIGHT
BEGIN:STANDARD
TZOFFSETFROM:+0200
TZOFFSETTO:+0100
TZNAME:CET
DTSTART:20251026T010000
END:STANDARD
BEGIN:DAYLIGHT
TZOFFSETFROM:+0100
TZOFFSETTO:+0200
TZNAME:CEST
DTSTART:20260329T010000
END:DAYLIGHT
BEGIN:STANDARD
TZOFFSETFROM:+0200
TZOFFSETTO:+0100
TZNAME:CET
DTSTART:20261025T010000
END:STANDARD
END:VTIMEZONE
BEGIN:VEVENT
DTSTART;TZID=Europe/Paris:20250119T073000
DTEND;TZID=Europe/Paris:20250119T170000
DTSTAMP:20260421T210830
CREATED:20241231T133936Z
LAST-MODIFIED:20241231T162336Z
UID:10000202-1737271800-1737306000@bike-cafe.fr
SUMMARY:Que du bonheur
DESCRIPTION:Pour sa 16ème édition\, la célèbre rando VTT gardoise de début d’année propose deux parcours gravel tracés par Bernard Castillon autour du mythique Mont Bouquet. Plaisir et dépaysement garanti !\nLe rendez-vous est à Saint Pons La Calm\, un petit village à 9 km au sud de Bagnols-sur-Cèze.\nPas d’inscriptions en ligne\, mais uniquement sur place. Les parcours gravel seront disponibles sur Openrunner la semaine précédent l’événement.\nRavitaillement jusqu’à 14h00 sur les parcours et à l’arrivée – apportez votre gobelet !
URL:https://bike-cafe.fr/evenement/que-du-bonheur/
LOCATION:Saint Pons La Calm\, Salle des Fêtes\, Saint Pons La Calm\, Gard\, 30330\, France
CATEGORIES:Gravel
ATTACH;FMTTYPE=image/jpeg:https://bike-cafe.fr/wp-content/uploads/2024/12/que-du-bonheur.jpg
END:VEVENT
END:VCALENDAR