BEGIN:VCALENDAR
VERSION:2.0
PRODID:-//Bike Café - ECPv6.15.20//NONSGML v1.0//EN
CALSCALE:GREGORIAN
METHOD:PUBLISH
X-WR-CALNAME:Bike Café
X-ORIGINAL-URL:https://bike-cafe.fr
X-WR-CALDESC:Évènements pour Bike Café
REFRESH-INTERVAL;VALUE=DURATION:PT1H
X-Robots-Tag:noindex
X-PUBLISHED-TTL:PT1H
BEGIN:VTIMEZONE
TZID:Europe/Paris
BEGIN:DAYLIGHT
TZOFFSETFROM:+0100
TZOFFSETTO:+0200
TZNAME:CEST
DTSTART:20240331T010000
END:DAYLIGHT
BEGIN:STANDARD
TZOFFSETFROM:+0200
TZOFFSETTO:+0100
TZNAME:CET
DTSTART:20241027T010000
END:STANDARD
BEGIN:DAYLIGHT
TZOFFSETFROM:+0100
TZOFFSETTO:+0200
TZNAME:CEST
DTSTART:20250330T010000
END:DAYLIGHT
BEGIN:STANDARD
TZOFFSETFROM:+0200
TZOFFSETTO:+0100
TZNAME:CET
DTSTART:20251026T010000
END:STANDARD
BEGIN:DAYLIGHT
TZOFFSETFROM:+0100
TZOFFSETTO:+0200
TZNAME:CEST
DTSTART:20260329T010000
END:DAYLIGHT
BEGIN:STANDARD
TZOFFSETFROM:+0200
TZOFFSETTO:+0100
TZNAME:CET
DTSTART:20261025T010000
END:STANDARD
END:VTIMEZONE
BEGIN:VEVENT
DTSTART;TZID=Europe/Paris:20250920T080000
DTEND;TZID=Europe/Paris:20250920T170000
DTSTAMP:20260420T103032
CREATED:20250625T123410Z
LAST-MODIFIED:20250625T123410Z
UID:10000238-1758355200-1758387600@bike-cafe.fr
SUMMARY:Flysch Gravel
DESCRIPTION:Course de gravelGravel RaG sur la côte de Gipuzkoa (Espagne). Le parcours reliera la mer à l’intérieur des terres. Le départ sera donné au cœur du Géoparc de la Côte Basque\, dans la municipalité de Deba. \nLe Géoparc UNESCO est mondialement connu pour son Flysch\, qui s’étend sur 60 millions d’années d’histoire. Cet événement est idéal pour explorer en profondeur cette merveille géologique. \nLes participants s’attaqueront aux 65 kilomètres de parcours\, traversant falaises\, collines\, anciennes voies ferrées et villages nichés entre les rivières Deba et Urola.
URL:https://bike-cafe.fr/evenement/flysch-gravel/
CATEGORIES:Gravel
ATTACH;FMTTYPE=image/jpeg:https://bike-cafe.fr/wp-content/uploads/2025/06/Flysch-gravel.jpg
ORGANIZER;CN="Amaikak Bat cyclosportif club":MAILTO:flyschgravel@gmail.com
END:VEVENT
END:VCALENDAR