BEGIN:VCALENDAR
VERSION:2.0
PRODID:-//Bike Café - ECPv6.15.20//NONSGML v1.0//EN
CALSCALE:GREGORIAN
METHOD:PUBLISH
X-ORIGINAL-URL:https://bike-cafe.fr
X-WR-CALDESC:Évènements pour Bike Café
REFRESH-INTERVAL;VALUE=DURATION:PT1H
X-Robots-Tag:noindex
X-PUBLISHED-TTL:PT1H
BEGIN:VTIMEZONE
TZID:Europe/Paris
BEGIN:DAYLIGHT
TZOFFSETFROM:+0100
TZOFFSETTO:+0200
TZNAME:CEST
DTSTART:20250330T010000
END:DAYLIGHT
BEGIN:STANDARD
TZOFFSETFROM:+0200
TZOFFSETTO:+0100
TZNAME:CET
DTSTART:20251026T010000
END:STANDARD
BEGIN:DAYLIGHT
TZOFFSETFROM:+0100
TZOFFSETTO:+0200
TZNAME:CEST
DTSTART:20260329T010000
END:DAYLIGHT
BEGIN:STANDARD
TZOFFSETFROM:+0200
TZOFFSETTO:+0100
TZNAME:CET
DTSTART:20261025T010000
END:STANDARD
BEGIN:DAYLIGHT
TZOFFSETFROM:+0100
TZOFFSETTO:+0200
TZNAME:CEST
DTSTART:20270328T010000
END:DAYLIGHT
BEGIN:STANDARD
TZOFFSETFROM:+0200
TZOFFSETTO:+0100
TZNAME:CET
DTSTART:20271031T010000
END:STANDARD
END:VTIMEZONE
BEGIN:VEVENT
DTSTART;VALUE=DATE:20260425
DTEND;VALUE=DATE:20260427
DTSTAMP:20260426T005003
CREATED:20260109T173729Z
LAST-MODIFIED:20260302T164812Z
UID:10000275-1777075200-1777247999@bike-cafe.fr
SUMMARY:Gravel Sud Bourgogne
DESCRIPTION:Créée en 2007\, la Bourguignonne a fait son retour en 2021 sous une nouvelle identité avec la Cyclo Sud Bourgogne ! \nParticiper à la Sud Bourgogne\, dans sa version Gravel ou Cyclo\, c’est l’occasion de découvrir le Massif Sud Bourgogne\, ses vignobles réputés\, son architecture romane et ses petits villages typiques. \nCette année\, l’épreuve se déroulera sur deux jours\, avec trois parcours cyclo le samedi (en rando & en chrono) et deux parcours gravel (en rando & en chrono) le dimanche. \nLa Cyclo Sud Bourgogne est organisée par l’association Cyclo Sud Bourgogne basée à Tournus (71).
URL:https://bike-cafe.fr/evenement/gravel-sud-bourgogne/
CATEGORIES:Gravel
ATTACH;FMTTYPE=image/jpeg:https://bike-cafe.fr/wp-content/uploads/2026/01/GTWO26-Visuel-calendrier-Bikecafe-Gravel-Sud-Bourgogne.jpg
END:VEVENT
END:VCALENDAR