BEGIN:VCALENDAR
VERSION:2.0
PRODID:-//Bike Café - ECPv6.15.20//NONSGML v1.0//EN
CALSCALE:GREGORIAN
METHOD:PUBLISH
X-WR-CALNAME:Bike Café
X-ORIGINAL-URL:https://bike-cafe.fr
X-WR-CALDESC:Évènements pour Bike Café
REFRESH-INTERVAL;VALUE=DURATION:PT1H
X-Robots-Tag:noindex
X-PUBLISHED-TTL:PT1H
BEGIN:VTIMEZONE
TZID:Europe/Paris
BEGIN:DAYLIGHT
TZOFFSETFROM:+0100
TZOFFSETTO:+0200
TZNAME:CEST
DTSTART:20220327T010000
END:DAYLIGHT
BEGIN:STANDARD
TZOFFSETFROM:+0200
TZOFFSETTO:+0100
TZNAME:CET
DTSTART:20221030T010000
END:STANDARD
BEGIN:DAYLIGHT
TZOFFSETFROM:+0100
TZOFFSETTO:+0200
TZNAME:CEST
DTSTART:20230326T010000
END:DAYLIGHT
BEGIN:STANDARD
TZOFFSETFROM:+0200
TZOFFSETTO:+0100
TZNAME:CET
DTSTART:20231029T010000
END:STANDARD
BEGIN:DAYLIGHT
TZOFFSETFROM:+0100
TZOFFSETTO:+0200
TZNAME:CEST
DTSTART:20240331T010000
END:DAYLIGHT
BEGIN:STANDARD
TZOFFSETFROM:+0200
TZOFFSETTO:+0100
TZNAME:CET
DTSTART:20241027T010000
END:STANDARD
END:VTIMEZONE
BEGIN:VEVENT
DTSTART;TZID=Europe/Paris:20230917T073000
DTEND;TZID=Europe/Paris:20230917T170000
DTSTAMP:20260422T192451
CREATED:20230910T121924Z
LAST-MODIFIED:20230910T121924Z
UID:10000082-1694935800-1694970000@bike-cafe.fr
SUMMARY:Randonnée des Grands Crus et Climats de Bourgogne
DESCRIPTION:Randonnée gravel proposant 4 circuits touristiques et sportifs au cœur du vignoble mythique des Côtes de Nuits et Beaune\, ainsi que sur les plateaux boisés des Hautes-Côtes\, avec le charme des vendanges. \nAccueil au Parc Noisot à Fixin\nInscription 9 € pour les non licenciés / 7 € pour les licenciés FFCT\nDéparts entre 7h30 et 10h\, accueil retour jusqu’à 17h\n1 à 4 ravitaillements sur les circuits suivant le parcours\nAssiette gourmande avec produits régionaux à l’arrivée sur réservation (6 €) \n 
URL:https://bike-cafe.fr/evenement/randonnee-des-grands-crus-et-climats-de-bourgogne/
CATEGORIES:Gravel
ATTACH;FMTTYPE=image/jpeg:https://bike-cafe.fr/wp-content/uploads/2023/09/grands-crus.jpg
ORGANIZER;CN="Cyclos Randonneurs Dijonnais":MAILTO:departement21-sante@ffvelo.fr
END:VEVENT
END:VCALENDAR