BEGIN:VCALENDAR
VERSION:2.0
PRODID:-//Bike Café - ECPv6.15.20//NONSGML v1.0//EN
CALSCALE:GREGORIAN
METHOD:PUBLISH
X-WR-CALNAME:Bike Café
X-ORIGINAL-URL:https://bike-cafe.fr
X-WR-CALDESC:Évènements pour Bike Café
REFRESH-INTERVAL;VALUE=DURATION:PT1H
X-Robots-Tag:noindex
X-PUBLISHED-TTL:PT1H
BEGIN:VTIMEZONE
TZID:Europe/Paris
BEGIN:DAYLIGHT
TZOFFSETFROM:+0100
TZOFFSETTO:+0200
TZNAME:CEST
DTSTART:20240331T010000
END:DAYLIGHT
BEGIN:STANDARD
TZOFFSETFROM:+0200
TZOFFSETTO:+0100
TZNAME:CET
DTSTART:20241027T010000
END:STANDARD
BEGIN:DAYLIGHT
TZOFFSETFROM:+0100
TZOFFSETTO:+0200
TZNAME:CEST
DTSTART:20250330T010000
END:DAYLIGHT
BEGIN:STANDARD
TZOFFSETFROM:+0200
TZOFFSETTO:+0100
TZNAME:CET
DTSTART:20251026T010000
END:STANDARD
BEGIN:DAYLIGHT
TZOFFSETFROM:+0100
TZOFFSETTO:+0200
TZNAME:CEST
DTSTART:20260329T010000
END:DAYLIGHT
BEGIN:STANDARD
TZOFFSETFROM:+0200
TZOFFSETTO:+0100
TZNAME:CET
DTSTART:20261025T010000
END:STANDARD
END:VTIMEZONE
BEGIN:VEVENT
DTSTART;VALUE=DATE:20250605
DTEND;VALUE=DATE:20250610
DTSTAMP:20260423T031439
CREATED:20250109T181940Z
LAST-MODIFIED:20250109T182259Z
UID:10000208-1749081600-1749513599@bike-cafe.fr
SUMMARY:Le Grand Tour de Creuse
DESCRIPTION:  \nSur le weekend de la Pentecôte 2025\, ce sont 180 coureur.se.s plus ou moins affûtés qui vont s’affronter sur les routes limousines ! Que vous preniez des relais de tracteur à l’avant du peloton ou que vous papotiez à l’arrière avec les copains\, le Grand Tour de Creuse saura vous immerger dans une course cycliste digne des pros dans une ambiance toute en décontraction. \nTous les coureurs et coureuses sont les bienvenus : avant la compétition\, plaisir et découverte sont les maîtres mots de la plus folle course cycliste par étape pour amateurs de France ! \n3 jours de course en Bikepacking (pour 300km de course)\n4 nuits en camping\n180 participant.es\n1000L de bière\nDu 5 au 9 juin 2025
URL:https://bike-cafe.fr/evenement/le-grand-tour-de-creuse/
CATEGORIES:Gravel
ATTACH;FMTTYPE=image/jpeg:https://bike-cafe.fr/wp-content/uploads/2025/01/creuse.jpg
ORGANIZER;CN="Le P'tit Braquet":MAILTO:contact@leptitbraquet.fr
END:VEVENT
END:VCALENDAR