BEGIN:VCALENDAR
VERSION:2.0
PRODID:-//Bike Café - ECPv6.15.20//NONSGML v1.0//EN
CALSCALE:GREGORIAN
METHOD:PUBLISH
X-ORIGINAL-URL:https://bike-cafe.fr
X-WR-CALDESC:Évènements pour Bike Café
REFRESH-INTERVAL;VALUE=DURATION:PT1H
X-Robots-Tag:noindex
X-PUBLISHED-TTL:PT1H
BEGIN:VTIMEZONE
TZID:Europe/Paris
BEGIN:DAYLIGHT
TZOFFSETFROM:+0100
TZOFFSETTO:+0200
TZNAME:CEST
DTSTART:20250330T010000
END:DAYLIGHT
BEGIN:STANDARD
TZOFFSETFROM:+0200
TZOFFSETTO:+0100
TZNAME:CET
DTSTART:20251026T010000
END:STANDARD
BEGIN:DAYLIGHT
TZOFFSETFROM:+0100
TZOFFSETTO:+0200
TZNAME:CEST
DTSTART:20260329T010000
END:DAYLIGHT
BEGIN:STANDARD
TZOFFSETFROM:+0200
TZOFFSETTO:+0100
TZNAME:CET
DTSTART:20261025T010000
END:STANDARD
BEGIN:DAYLIGHT
TZOFFSETFROM:+0100
TZOFFSETTO:+0200
TZNAME:CEST
DTSTART:20270328T010000
END:DAYLIGHT
BEGIN:STANDARD
TZOFFSETFROM:+0200
TZOFFSETTO:+0100
TZNAME:CET
DTSTART:20271031T010000
END:STANDARD
END:VTIMEZONE
BEGIN:VEVENT
DTSTART;VALUE=DATE:20260412
DTEND;VALUE=DATE:20260413
DTSTAMP:20260420T213738
CREATED:20260107T193052Z
LAST-MODIFIED:20260302T164516Z
UID:10000274-1775952000-1776038399@bike-cafe.fr
SUMMARY:Gravel des Monts du Lyonnais
DESCRIPTION:Pour cette troisième édition\, nous avons l’honneur de voir notre épreuve parrainée par David MONCOUTIE\, multiple participant au Tour de France.\nLe parcours de cette troisième édition emprunte toujours les contreforts des monts du lyonnais mais avec des parcours revisités. Rencontre avec les vestiges des aqueducs qui servaient en eau Lugdunum\, la capitale des Gaules. Vous traverserez les coteaux du lyonnais avec une vue imprenable sur la chaîne des Alpes avec sa majesté le Mont Blanc\, s’il n’est pas dans la brume. \nVenez partager avec nous cette édition Gravel\, ses paysages\, sa convivialité clôturée par un repas servi par notre traiteur tout en regardant les remises de prix\, scratch et 9 catégories dames et hommes récompensées.
URL:https://bike-cafe.fr/evenement/gravel-des-monts-du-lyonnais/
CATEGORIES:Gravel
ATTACH;FMTTYPE=image/jpeg:https://bike-cafe.fr/wp-content/uploads/2026/01/GTWO26-Visuel-calendrier-Bikecafe-copie.jpg
END:VEVENT
END:VCALENDAR