BEGIN:VCALENDAR
VERSION:2.0
PRODID:-//Bike Café - ECPv6.15.20//NONSGML v1.0//EN
CALSCALE:GREGORIAN
METHOD:PUBLISH
X-ORIGINAL-URL:https://bike-cafe.fr
X-WR-CALDESC:Évènements pour Bike Café
REFRESH-INTERVAL;VALUE=DURATION:PT1H
X-Robots-Tag:noindex
X-PUBLISHED-TTL:PT1H
BEGIN:VTIMEZONE
TZID:Europe/Paris
BEGIN:DAYLIGHT
TZOFFSETFROM:+0100
TZOFFSETTO:+0200
TZNAME:CEST
DTSTART:20220327T010000
END:DAYLIGHT
BEGIN:STANDARD
TZOFFSETFROM:+0200
TZOFFSETTO:+0100
TZNAME:CET
DTSTART:20221030T010000
END:STANDARD
BEGIN:DAYLIGHT
TZOFFSETFROM:+0100
TZOFFSETTO:+0200
TZNAME:CEST
DTSTART:20230326T010000
END:DAYLIGHT
BEGIN:STANDARD
TZOFFSETFROM:+0200
TZOFFSETTO:+0100
TZNAME:CET
DTSTART:20231029T010000
END:STANDARD
BEGIN:DAYLIGHT
TZOFFSETFROM:+0100
TZOFFSETTO:+0200
TZNAME:CEST
DTSTART:20240331T010000
END:DAYLIGHT
BEGIN:STANDARD
TZOFFSETFROM:+0200
TZOFFSETTO:+0100
TZNAME:CET
DTSTART:20241027T010000
END:STANDARD
END:VTIMEZONE
BEGIN:VEVENT
DTSTART;VALUE=DATE:20230915
DTEND;VALUE=DATE:20230918
DTSTAMP:20260421T121535
CREATED:20230912T073329Z
LAST-MODIFIED:20230912T073329Z
UID:10000083-1694736000-1694995199@bike-cafe.fr
SUMMARY:Rallye du Parc
DESCRIPTION:La 37ème édition du rallye du parc naturel régional de la Haute Vallée de Chevreuse est une randonnée cyclotouriste (FFVélo / FFCT) organisée par le vélo club de Montigny-le-Bretonneux (VCMB – 78180). Elle vous convie à la découverte des Yvelines (78)\, de sa richesse historique\, patrimoniale et de cette campagne verdoyante aux portes de Paris. Elle est ouverte à tous·tes\, cyclistes :\nPARCOURS – CYCLO\n• 105 km (D+ 910m)\n• 85 km (D+ 690m)\n• 65 km (D+ 610m)\n• Loisir – 2 heures de vélo\nPARCOURS – GRAVEL\n• Gravel 75 km (D+ 550m)\n• Gravel 38 km (D+ 230m) \n 
URL:https://bike-cafe.fr/evenement/rallye-du-parc/
CATEGORIES:Tous vélos
ATTACH;FMTTYPE=image/jpeg:https://bike-cafe.fr/wp-content/uploads/2023/09/rzllye-du-pzrc.jpg
ORGANIZER;CN="VCMB 78":MAILTO:rallyeduparc@vcmb.fr
END:VEVENT
END:VCALENDAR